BEGIN:VCALENDAR
VERSION:2.0
PRODID:-//Lubbock Boys &amp; Girls Club - ECPv6.15.17.1//NONSGML v1.0//EN
CALSCALE:GREGORIAN
METHOD:PUBLISH
X-WR-CALNAME:Lubbock Boys &amp; Girls Club
X-ORIGINAL-URL:https://www.lubbockbgc.org
X-WR-CALDESC:Events for Lubbock Boys &amp; Girls Club
REFRESH-INTERVAL;VALUE=DURATION:PT1H
X-Robots-Tag:noindex
X-PUBLISHED-TTL:PT1H
BEGIN:VTIMEZONE
TZID:America/Chicago
BEGIN:DAYLIGHT
TZOFFSETFROM:-0600
TZOFFSETTO:-0500
TZNAME:CDT
DTSTART:20240310T080000
END:DAYLIGHT
BEGIN:STANDARD
TZOFFSETFROM:-0500
TZOFFSETTO:-0600
TZNAME:CST
DTSTART:20241103T070000
END:STANDARD
BEGIN:DAYLIGHT
TZOFFSETFROM:-0600
TZOFFSETTO:-0500
TZNAME:CDT
DTSTART:20250309T080000
END:DAYLIGHT
BEGIN:STANDARD
TZOFFSETFROM:-0500
TZOFFSETTO:-0600
TZNAME:CST
DTSTART:20251102T070000
END:STANDARD
BEGIN:DAYLIGHT
TZOFFSETFROM:-0600
TZOFFSETTO:-0500
TZNAME:CDT
DTSTART:20260308T080000
END:DAYLIGHT
BEGIN:STANDARD
TZOFFSETFROM:-0500
TZOFFSETTO:-0600
TZNAME:CST
DTSTART:20261101T070000
END:STANDARD
BEGIN:DAYLIGHT
TZOFFSETFROM:-0600
TZOFFSETTO:-0500
TZNAME:CDT
DTSTART:20270314T080000
END:DAYLIGHT
BEGIN:STANDARD
TZOFFSETFROM:-0500
TZOFFSETTO:-0600
TZNAME:CST
DTSTART:20271107T070000
END:STANDARD
END:VTIMEZONE
BEGIN:VEVENT
DTSTART;TZID=America/Chicago:20251217T150000
DTEND;TZID=America/Chicago:20251217T190000
DTSTAMP:20260419T183657
CREATED:20251124T172940Z
LAST-MODIFIED:20251124T181611Z
UID:10000003-1765983600-1765998000@www.lubbockbgc.org
SUMMARY:All Clubs Christmas Party
DESCRIPTION:« All Events\n 				\n				\n				\n				\n					\n	Summer Camp Begins				\n				\n				\n				\n					\n		\n			May 26
URL:https://www.lubbockbgc.org/event/all-clubs-christmas-party/
END:VEVENT
BEGIN:VEVENT
DTSTART;TZID=America/Chicago:20251222T080000
DTEND;TZID=America/Chicago:20260105T170000
DTSTAMP:20260419T183657
CREATED:20251124T173906Z
LAST-MODIFIED:20251124T173942Z
UID:10000004-1766390400-1767632400@www.lubbockbgc.org
SUMMARY:All Clubs Closed Christmas
DESCRIPTION:« All Events\n 				\n				\n				\n				\n					\n	Summer Camp Begins				\n				\n				\n				\n					\n		\n			May 26
URL:https://www.lubbockbgc.org/event/all-clubs-closed-christmas/
END:VEVENT
BEGIN:VEVENT
DTSTART;TZID=America/Chicago:20251222T090000
DTEND;TZID=America/Chicago:20251222T170000
DTSTAMP:20260419T183657
CREATED:20251124T174105Z
LAST-MODIFIED:20251124T174132Z
UID:10000005-1766394000-1766422800@www.lubbockbgc.org
SUMMARY:Administrative Offices OPEN
DESCRIPTION:« All Events\n 				\n				\n				\n				\n					\n	Summer Camp Begins				\n				\n				\n				\n					\n		\n			May 26
URL:https://www.lubbockbgc.org/event/administrative-offices-open/
END:VEVENT
END:VCALENDAR