BEGIN:VCALENDAR
VERSION:2.0
PRODID:-//Lubbock Boys &amp; Girls Club - ECPv6.15.17.1//NONSGML v1.0//EN
CALSCALE:GREGORIAN
METHOD:PUBLISH
X-WR-CALNAME:Lubbock Boys &amp; Girls Club
X-ORIGINAL-URL:https://www.lubbockbgc.org
X-WR-CALDESC:Events for Lubbock Boys &amp; Girls Club
REFRESH-INTERVAL;VALUE=DURATION:PT1H
X-Robots-Tag:noindex
X-PUBLISHED-TTL:PT1H
BEGIN:VTIMEZONE
TZID:America/Chicago
BEGIN:DAYLIGHT
TZOFFSETFROM:-0600
TZOFFSETTO:-0500
TZNAME:CDT
DTSTART:20240310T080000
END:DAYLIGHT
BEGIN:STANDARD
TZOFFSETFROM:-0500
TZOFFSETTO:-0600
TZNAME:CST
DTSTART:20241103T070000
END:STANDARD
BEGIN:DAYLIGHT
TZOFFSETFROM:-0600
TZOFFSETTO:-0500
TZNAME:CDT
DTSTART:20250309T080000
END:DAYLIGHT
BEGIN:STANDARD
TZOFFSETFROM:-0500
TZOFFSETTO:-0600
TZNAME:CST
DTSTART:20251102T070000
END:STANDARD
BEGIN:DAYLIGHT
TZOFFSETFROM:-0600
TZOFFSETTO:-0500
TZNAME:CDT
DTSTART:20260308T080000
END:DAYLIGHT
BEGIN:STANDARD
TZOFFSETFROM:-0500
TZOFFSETTO:-0600
TZNAME:CST
DTSTART:20261101T070000
END:STANDARD
END:VTIMEZONE
BEGIN:VEVENT
DTSTART;TZID=America/Chicago:20251126T080000
DTEND;TZID=America/Chicago:20251128T170000
DTSTAMP:20260419T202425
CREATED:20251124T171024Z
LAST-MODIFIED:20251124T173813Z
UID:10000002-1764144000-1764349200@www.lubbockbgc.org
SUMMARY:All Clubs Closed
DESCRIPTION:« All Events\n 				\n				\n				\n				\n					\n	Summer Camp Begins				\n				\n				\n				\n					\n		\n			May 26
URL:https://www.lubbockbgc.org/event/all-clubs-closed/
END:VEVENT
END:VCALENDAR