BEGIN:VCALENDAR
VERSION:2.0
PRODID:-//Lubbock Boys &amp; Girls Club - ECPv6.15.17.1//NONSGML v1.0//EN
CALSCALE:GREGORIAN
METHOD:PUBLISH
X-ORIGINAL-URL:https://www.lubbockbgc.org
X-WR-CALDESC:Events for Lubbock Boys &amp; Girls Club
REFRESH-INTERVAL;VALUE=DURATION:PT1H
X-Robots-Tag:noindex
X-PUBLISHED-TTL:PT1H
BEGIN:VTIMEZONE
TZID:America/Chicago
BEGIN:DAYLIGHT
TZOFFSETFROM:-0600
TZOFFSETTO:-0500
TZNAME:CDT
DTSTART:20250309T080000
END:DAYLIGHT
BEGIN:STANDARD
TZOFFSETFROM:-0500
TZOFFSETTO:-0600
TZNAME:CST
DTSTART:20251102T070000
END:STANDARD
BEGIN:DAYLIGHT
TZOFFSETFROM:-0600
TZOFFSETTO:-0500
TZNAME:CDT
DTSTART:20260308T080000
END:DAYLIGHT
BEGIN:STANDARD
TZOFFSETFROM:-0500
TZOFFSETTO:-0600
TZNAME:CST
DTSTART:20261101T070000
END:STANDARD
BEGIN:DAYLIGHT
TZOFFSETFROM:-0600
TZOFFSETTO:-0500
TZNAME:CDT
DTSTART:20270314T080000
END:DAYLIGHT
BEGIN:STANDARD
TZOFFSETFROM:-0500
TZOFFSETTO:-0600
TZNAME:CST
DTSTART:20271107T070000
END:STANDARD
END:VTIMEZONE
BEGIN:VEVENT
DTSTART;VALUE=DATE:20260316
DTEND;VALUE=DATE:20260317
DTSTAMP:20260419T205241
CREATED:20260108T164346Z
LAST-MODIFIED:20260108T173140Z
UID:10000017-1773619200-1773705599@www.lubbockbgc.org
SUMMARY:Summer Camp Enrollment Starts
DESCRIPTION:« All Events\n 				\n				\n				\n				\n					This event has passed. \n				\n				\n				\n				\n					\n	ABC Pro Rodeo Kickoff				\n				\n				\n				\n					\n		\n			March 26
URL:https://www.lubbockbgc.org/event/summer-camp-enrollment-starts/
END:VEVENT
BEGIN:VEVENT
DTSTART;VALUE=DATE:20260323
DTEND;VALUE=DATE:20260324
DTSTAMP:20260419T205241
CREATED:20260108T164410Z
LAST-MODIFIED:20260108T172611Z
UID:10000018-1774224000-1774310399@www.lubbockbgc.org
SUMMARY:All Clubs Closed Staff Development
DESCRIPTION:« All Events\n 				\n				\n				\n				\n					This event has passed. \n				\n				\n				\n				\n					\n	ABC Pro Rodeo Kickoff				\n				\n				\n				\n					\n		\n			March 26
URL:https://www.lubbockbgc.org/event/all-clubs-closed-staff-development/
END:VEVENT
BEGIN:VEVENT
DTSTART;VALUE=DATE:20260326
DTEND;VALUE=DATE:20260327
DTSTAMP:20260419T205241
CREATED:20260108T164434Z
LAST-MODIFIED:20260108T172203Z
UID:10000019-1774483200-1774569599@www.lubbockbgc.org
SUMMARY:ABC Pro Rodeo Kickoff
DESCRIPTION:« All Events\n 				\n				\n				\n				\n					This event has passed. \n				\n				\n				\n				\n					\n	ABC Pro Rodeo Kickoff				\n				\n				\n				\n					\n		\n			March 26
URL:https://www.lubbockbgc.org/event/abc-pro-rodeo-kickoff/
END:VEVENT
BEGIN:VEVENT
DTSTART;VALUE=DATE:20260402
DTEND;VALUE=DATE:20260403
DTSTAMP:20260419T205241
CREATED:20260108T164457Z
LAST-MODIFIED:20260108T172036Z
UID:10000020-1775088000-1775174399@www.lubbockbgc.org
SUMMARY:All Club Easter Parties
DESCRIPTION:« All Events\n 				\n				\n				\n				\n					This event has passed. \n				\n				\n				\n				\n					\n	ABC Pro Rodeo Kickoff				\n				\n				\n				\n					\n		\n			March 26
URL:https://www.lubbockbgc.org/event/all-club-easter-parties/
END:VEVENT
BEGIN:VEVENT
DTSTART;VALUE=DATE:20260403
DTEND;VALUE=DATE:20260404
DTSTAMP:20260419T205241
CREATED:20260108T164526Z
LAST-MODIFIED:20260108T171809Z
UID:10000021-1775174400-1775260799@www.lubbockbgc.org
SUMMARY:All Clubs Closed - Good Friday
DESCRIPTION:« All Events\n 				\n				\n				\n				\n					This event has passed. \n				\n				\n				\n				\n					\n	ABC Pro Rodeo Kickoff				\n				\n				\n				\n					\n		\n			March 26
URL:https://www.lubbockbgc.org/event/all-clubs-closed-good-friday/
END:VEVENT
BEGIN:VEVENT
DTSTART;VALUE=DATE:20260404
DTEND;VALUE=DATE:20260405
DTSTAMP:20260419T205241
CREATED:20260108T164549Z
LAST-MODIFIED:20260108T171325Z
UID:10000022-1775260800-1775347199@www.lubbockbgc.org
SUMMARY:ABC Pro Rodeo Take a Kid
DESCRIPTION:« All Events\n 				\n				\n				\n				\n					This event has passed. \n				\n				\n				\n				\n					\n	ABC Pro Rodeo Kickoff				\n				\n				\n				\n					\n		\n			March 26
URL:https://www.lubbockbgc.org/event/abc-pro-rodeo-take-a-kid/
END:VEVENT
BEGIN:VEVENT
DTSTART;VALUE=DATE:20260408
DTEND;VALUE=DATE:20260430
DTSTAMP:20260419T205241
CREATED:20260108T164651Z
LAST-MODIFIED:20260108T171016Z
UID:10000023-1775606400-1777507199@www.lubbockbgc.org
SUMMARY:Soccer Coed 6-8yr & 9-12yr @ Mahomies
DESCRIPTION:« All Events\n 				\n				\n				\n				\n					This event has passed. \n				\n				\n				\n				\n					\n	ABC Pro Rodeo Kickoff				\n				\n				\n				\n					\n		\n			March 26
URL:https://www.lubbockbgc.org/event/soccer-coed-6-8yr-9-12yr-mahomies/
LOCATION:3301 Cornell St\, Lubbock\, TX 79415\, 3301 Cornell Street\, Lubbock\, Texas\, 79415
END:VEVENT
BEGIN:VEVENT
DTSTART;VALUE=DATE:20260424
DTEND;VALUE=DATE:20260425
DTSTAMP:20260419T205241
CREATED:20260108T164756Z
LAST-MODIFIED:20260108T170740Z
UID:10000024-1776988800-1777075199@www.lubbockbgc.org
SUMMARY:Annual Club Awards Dinner/Ceremony
DESCRIPTION:« All Events\n 				\n				\n				\n				\n					This event has passed. \n				\n				\n				\n				\n					\n	ABC Pro Rodeo Kickoff				\n				\n				\n				\n					\n		\n			March 26
URL:https://www.lubbockbgc.org/event/annual-club-awards-dinner-ceremony/
END:VEVENT
BEGIN:VEVENT
DTSTART;VALUE=DATE:20260513
DTEND;VALUE=DATE:20260514
DTSTAMP:20260419T205241
CREATED:20260108T164821Z
LAST-MODIFIED:20260108T171129Z
UID:10000025-1778630400-1778716799@www.lubbockbgc.org
SUMMARY:Track & Field Day
DESCRIPTION:« All Events\n 				\n				\n				\n				\n					This event has passed. \n				\n				\n				\n				\n					\n	ABC Pro Rodeo Kickoff				\n				\n				\n				\n					\n		\n			March 26
URL:https://www.lubbockbgc.org/event/track-field-day/
END:VEVENT
BEGIN:VEVENT
DTSTART;VALUE=DATE:20260515
DTEND;VALUE=DATE:20260516
DTSTAMP:20260419T205241
CREATED:20260108T164849Z
LAST-MODIFIED:20260108T170328Z
UID:10000026-1778803200-1778889599@www.lubbockbgc.org
SUMMARY:Last Day of School Year
DESCRIPTION:« All Events\n 				\n				\n				\n				\n					This event has passed. \n				\n				\n				\n				\n					\n	ABC Pro Rodeo Kickoff				\n				\n				\n				\n					\n		\n			March 26
URL:https://www.lubbockbgc.org/event/last-day-of-school-year/
END:VEVENT
BEGIN:VEVENT
DTSTART;VALUE=DATE:20260518
DTEND;VALUE=DATE:20260523
DTSTAMP:20260419T205241
CREATED:20260108T164914Z
LAST-MODIFIED:20260108T165959Z
UID:10000027-1779062400-1779494399@www.lubbockbgc.org
SUMMARY:All Clubs closed for Training
DESCRIPTION:« All Events\n 				\n				\n				\n				\n					This event has passed. \n				\n				\n				\n				\n					\n	ABC Pro Rodeo Kickoff				\n				\n				\n				\n					\n		\n			March 26
URL:https://www.lubbockbgc.org/event/all-clubs-closed-for-training/
END:VEVENT
BEGIN:VEVENT
DTSTART;VALUE=DATE:20260525
DTEND;VALUE=DATE:20260526
DTSTAMP:20260419T205241
CREATED:20260108T164944Z
LAST-MODIFIED:20260108T165601Z
UID:10000028-1779667200-1779753599@www.lubbockbgc.org
SUMMARY:All Clubs closed Memorial Day
DESCRIPTION:« All Events\n 				\n				\n				\n				\n					This event has passed. \n				\n				\n				\n				\n					\n	ABC Pro Rodeo Kickoff				\n				\n				\n				\n					\n		\n			March 26
URL:https://www.lubbockbgc.org/event/all-clubs-closed-memorial-day/
END:VEVENT
BEGIN:VEVENT
DTSTART;VALUE=DATE:20260526
DTEND;VALUE=DATE:20260527
DTSTAMP:20260419T205241
CREATED:20260108T165011Z
LAST-MODIFIED:20260108T165440Z
UID:10000029-1779753600-1779839999@www.lubbockbgc.org
SUMMARY:Summer Camp Begins
DESCRIPTION:« All Events\n 				\n				\n				\n				\n					This event has passed. \n				\n				\n				\n				\n					\n	ABC Pro Rodeo Kickoff				\n				\n				\n				\n					\n		\n			March 26
URL:https://www.lubbockbgc.org/event/summer-camp-begins/
END:VEVENT
END:VCALENDAR