BEGIN:VCALENDAR
VERSION:2.0
PRODID:-//Lubbock Boys &amp; Girls Club - ECPv6.15.17.1//NONSGML v1.0//EN
CALSCALE:GREGORIAN
METHOD:PUBLISH
X-WR-CALNAME:Lubbock Boys &amp; Girls Club
X-ORIGINAL-URL:https://www.lubbockbgc.org
X-WR-CALDESC:Events for Lubbock Boys &amp; Girls Club
REFRESH-INTERVAL;VALUE=DURATION:PT1H
X-Robots-Tag:noindex
X-PUBLISHED-TTL:PT1H
BEGIN:VTIMEZONE
TZID:America/Chicago
BEGIN:DAYLIGHT
TZOFFSETFROM:-0600
TZOFFSETTO:-0500
TZNAME:CDT
DTSTART:20240310T080000
END:DAYLIGHT
BEGIN:STANDARD
TZOFFSETFROM:-0500
TZOFFSETTO:-0600
TZNAME:CST
DTSTART:20241103T070000
END:STANDARD
BEGIN:DAYLIGHT
TZOFFSETFROM:-0600
TZOFFSETTO:-0500
TZNAME:CDT
DTSTART:20250309T080000
END:DAYLIGHT
BEGIN:STANDARD
TZOFFSETFROM:-0500
TZOFFSETTO:-0600
TZNAME:CST
DTSTART:20251102T070000
END:STANDARD
BEGIN:DAYLIGHT
TZOFFSETFROM:-0600
TZOFFSETTO:-0500
TZNAME:CDT
DTSTART:20260308T080000
END:DAYLIGHT
BEGIN:STANDARD
TZOFFSETFROM:-0500
TZOFFSETTO:-0600
TZNAME:CST
DTSTART:20261101T070000
END:STANDARD
BEGIN:DAYLIGHT
TZOFFSETFROM:-0600
TZOFFSETTO:-0500
TZNAME:CDT
DTSTART:20270314T080000
END:DAYLIGHT
BEGIN:STANDARD
TZOFFSETFROM:-0500
TZOFFSETTO:-0600
TZNAME:CST
DTSTART:20271107T070000
END:STANDARD
END:VTIMEZONE
BEGIN:VEVENT
DTSTART;TZID=America/Chicago:20251222T080000
DTEND;TZID=America/Chicago:20260105T170000
DTSTAMP:20260419T171010
CREATED:20251124T173906Z
LAST-MODIFIED:20251124T173942Z
UID:836-1766390400-1767632400@www.lubbockbgc.org
SUMMARY:All Clubs Closed Christmas
DESCRIPTION:« All Events\n 				\n				\n				\n				\n					This event has passed. \n				\n				\n				\n				\n					\n	All Clubs Closed Christmas				\n				\n				\n				\n					\n		\n			December 22\n\n	\n\n	 @ \n\n\n8:00 am\n\n	\n\n		\n	\n	 - \n\n	January 5\n\n	\n\n	 @ \n\n\n5:00 pm\n\n\n\n	\n				\n				\n				\n									All clubs closed for Christmas December 22nd – January 5th. Happy holidays! 								\n				\n						\n					\n			\n							\n		\n					\n		\n				\n						\n					\n			\n						\n				\n					\n	\n		\n\n	\n	Add to calendar	\n		\n	\n\n		\n			\n									\n	Google Calendar\n\n									\n	iCalendar\n\n									\n	Outlook 365\n\n									\n	Outlook Live\n\n							\n		\n\n		\n	\n\n				\n				\n					\n		\n					\n		\n				\n						\n					\n			\n						\n				\n					\n	\n		\n\n				All Clubs Christmas Party	\n\n\n		\n	\n		Administrative Offices OPEN
URL:https://www.lubbockbgc.org/event/all-clubs-closed-christmas/
END:VEVENT
END:VCALENDAR